Package: oncoscanR Version: 1.9.0 Command: chmod a+r oncoscanR -R && E:\biocbuild\bbs-3.21-bioc\R\bin\R.exe CMD build --keep-empty-dirs --no-resave-data oncoscanR StartedAt: 2025-02-09 20:25:56 -0500 (Sun, 09 Feb 2025) EndedAt: 2025-02-09 20:28:24 -0500 (Sun, 09 Feb 2025) EllapsedTime: 147.4 seconds RetCode: 0 Status: OK PackageFile: oncoscanR_1.9.0.tar.gz PackageFileSize: 991.1 KiB