Package: onlineFDR Version: 2.15.0 Command: /Library/Frameworks/R.framework/Resources/bin/R CMD build --keep-empty-dirs --no-resave-data onlineFDR StartedAt: 2025-02-09 17:09:46 -0500 (Sun, 09 Feb 2025) EndedAt: 2025-02-09 17:10:00 -0500 (Sun, 09 Feb 2025) EllapsedTime: 14.2 seconds RetCode: 1 Status: ERROR PackageFile: None PackageFileSize: NA