Package: onlineFDR Version: 2.15.0 Command: rm -rf onlineFDR.buildbin-libdir && mkdir onlineFDR.buildbin-libdir && /Users/biocbuild/BBS/utils/build-universal.sh onlineFDR_2.15.0.tar.gz /Library/Frameworks/R.framework/Resources/bin/R onlineFDR.buildbin-libdir StartedAt: 2025-02-10 01:06:50 -0500 (Mon, 10 Feb 2025) EndedAt: 2025-02-10 01:07:42 -0500 (Mon, 10 Feb 2025) EllapsedTime: 51.8 seconds RetCode: 0 Status: OK PackageFile: onlineFDR_2.15.0.tgz PackageFileSize: 1.255 MiB