Package: onlineFDR Version: 2.15.0 Command: /Library/Frameworks/R.framework/Resources/bin/R CMD build --keep-empty-dirs --no-resave-data onlineFDR StartedAt: 2025-02-09 17:48:38 -0500 (Sun, 09 Feb 2025) EndedAt: 2025-02-09 17:49:22 -0500 (Sun, 09 Feb 2025) EllapsedTime: 44.5 seconds RetCode: 0 Status: OK PackageFile: onlineFDR_2.15.0.tar.gz PackageFileSize: 1.921 MiB