Package: onlineFDR Version: 2.15.0 Command: rm -rf onlineFDR.buildbin-libdir && mkdir onlineFDR.buildbin-libdir && E:\biocbuild\bbs-3.21-bioc\R\bin\R.exe CMD INSTALL --build --library=onlineFDR.buildbin-libdir onlineFDR_2.15.0.tar.gz StartedAt: 2025-02-13 08:29:39 -0500 (Thu, 13 Feb 2025) EndedAt: 2025-02-13 08:30:43 -0500 (Thu, 13 Feb 2025) EllapsedTime: 64.2 seconds RetCode: 0 Status: OK PackageFile: onlineFDR_2.15.0.zip PackageFileSize: 1.602 MiB