Package: ontoProc Version: 2.1.4 Command: /Library/Frameworks/R.framework/Resources/bin/R CMD build --keep-empty-dirs --no-resave-data ontoProc StartedAt: 2025-02-04 17:10:04 -0500 (Tue, 04 Feb 2025) EndedAt: 2025-02-04 17:13:08 -0500 (Tue, 04 Feb 2025) EllapsedTime: 184.0 seconds RetCode: 0 Status: OK PackageFile: ontoProc_2.1.4.tar.gz PackageFileSize: 13.1 MiB