Package: ontoProc Version: 2.1.4 Command: /Library/Frameworks/R.framework/Resources/bin/R CMD check --install=check:ontoProc.install-out.txt --library=/Library/Frameworks/R.framework/Resources/library --no-vignettes --timings ontoProc_2.1.4.tar.gz StartedAt: 2025-02-04 20:31:43 -0500 (Tue, 04 Feb 2025) EndedAt: 2025-02-04 20:37:12 -0500 (Tue, 04 Feb 2025) EllapsedTime: 328.8 seconds RetCode: 0 Status: OK CheckDir: ontoProc.Rcheck Warnings: 0