Package: ontoProc Version: 2.1.4 Command: rm -rf ontoProc.buildbin-libdir && mkdir ontoProc.buildbin-libdir && /Users/biocbuild/BBS/utils/build-universal.sh ontoProc_2.1.4.tar.gz /Library/Frameworks/R.framework/Resources/bin/R ontoProc.buildbin-libdir StartedAt: 2025-02-10 01:06:50 -0500 (Mon, 10 Feb 2025) EndedAt: 2025-02-10 01:07:40 -0500 (Mon, 10 Feb 2025) EllapsedTime: 49.4 seconds RetCode: 0 Status: OK PackageFile: ontoProc_2.1.4.tgz PackageFileSize: 11.02 MiB