Package: ontoProc Version: 2.1.4 Command: /Library/Frameworks/R.framework/Resources/bin/R CMD INSTALL ontoProc StartedAt: 2025-02-09 15:27:35 -0500 (Sun, 09 Feb 2025) EndedAt: 2025-02-09 15:28:20 -0500 (Sun, 09 Feb 2025) EllapsedTime: 44.9 seconds RetCode: 0 Status: OK