Package: ontoProc Version: 2.1.4 Command: /home/biocbuild/bbs-3.21-bioc/R/bin/R CMD build --keep-empty-dirs --no-resave-data ontoProc StartedAt: 2025-02-09 18:29:51 -0500 (Sun, 09 Feb 2025) EndedAt: 2025-02-09 18:32:52 -0500 (Sun, 09 Feb 2025) EllapsedTime: 181.3 seconds RetCode: 0 Status: OK PackageFile: ontoProc_2.1.4.tar.gz PackageFileSize: 13.67 MiB