Package: ontoProc Version: 2.1.4 Command: chmod a+r ontoProc -R && E:\biocbuild\bbs-3.21-bioc\R\bin\R.exe CMD build --keep-empty-dirs --no-resave-data ontoProc StartedAt: 2025-02-09 20:26:48 -0500 (Sun, 09 Feb 2025) EndedAt: 2025-02-09 20:35:10 -0500 (Sun, 09 Feb 2025) EllapsedTime: 502.2 seconds RetCode: 0 Status: OK PackageFile: ontoProc_2.1.4.tar.gz PackageFileSize: 12.82 MiB