Package: ontoProc Version: 2.1.4 Command: E:\biocbuild\bbs-3.21-bioc\R\bin\R.exe CMD check --no-multiarch --install=check:ontoProc.install-out.txt --library=E:\biocbuild\bbs-3.21-bioc\R\library --no-vignettes --timings ontoProc_2.1.4.tar.gz StartedAt: 2025-02-05 04:12:12 -0500 (Wed, 05 Feb 2025) EndedAt: 2025-02-05 04:28:45 -0500 (Wed, 05 Feb 2025) EllapsedTime: 992.9 seconds RetCode: 0 Status: OK CheckDir: ontoProc.Rcheck Warnings: 0