Package: ontoProc Version: 2.1.4 Command: E:\biocbuild\bbs-3.21-bioc\R\bin\R.exe CMD INSTALL ontoProc StartedAt: 2025-02-09 16:16:25 -0500 (Sun, 09 Feb 2025) EndedAt: 2025-02-09 16:17:19 -0500 (Sun, 09 Feb 2025) EllapsedTime: 53.7 seconds RetCode: 0 Status: OK