Package: openPrimeR Version: 1.29.0 Command: rm -rf openPrimeR.buildbin-libdir && mkdir openPrimeR.buildbin-libdir && /Users/biocbuild/BBS/utils/build-universal.sh openPrimeR_1.29.0.tar.gz /Library/Frameworks/R.framework/Resources/bin/R openPrimeR.buildbin-libdir StartedAt: 2025-02-09 22:24:20 -0500 (Sun, 09 Feb 2025) EndedAt: 2025-02-09 22:24:32 -0500 (Sun, 09 Feb 2025) EllapsedTime: 12.3 seconds RetCode: 0 Status: OK PackageFile: openPrimeR_1.29.0.tgz PackageFileSize: 3.07 MiB