Package: openPrimeR Version: 1.29.0 Command: /Library/Frameworks/R.framework/Resources/bin/R CMD build --keep-empty-dirs --no-resave-data openPrimeR StartedAt: 2025-02-09 17:09:59 -0500 (Sun, 09 Feb 2025) EndedAt: 2025-02-09 17:10:36 -0500 (Sun, 09 Feb 2025) EllapsedTime: 36.4 seconds RetCode: 0 Status: OK PackageFile: openPrimeR_1.29.0.tar.gz PackageFileSize: 2.147 MiB