Package: openPrimeR Version: 1.29.0 Command: /home/biocbuild/R/R/bin/R CMD build --keep-empty-dirs --no-resave-data openPrimeR StartedAt: 2025-01-29 01:01:40 -0000 (Wed, 29 Jan 2025) EndedAt: 2025-01-29 01:03:38 -0000 (Wed, 29 Jan 2025) EllapsedTime: 118.2 seconds RetCode: 0 Status: OK PackageFile: openPrimeR_1.29.0.tar.gz PackageFileSize: 1.827 MiB