Package: openPrimeR Version: 1.29.0 Command: /Library/Frameworks/R.framework/Resources/bin/R CMD check --install=check:openPrimeR.install-out.txt --library=/Library/Frameworks/R.framework/Resources/library --no-vignettes --timings openPrimeR_1.29.0.tar.gz StartedAt: 2025-02-09 22:27:07 -0500 (Sun, 09 Feb 2025) EndedAt: 2025-02-09 22:35:20 -0500 (Sun, 09 Feb 2025) EllapsedTime: 492.5 seconds RetCode: 0 Status: OK CheckDir: openPrimeR.Rcheck Warnings: 0