Package: openPrimeR Version: 1.29.0 Command: /home/biocbuild/bbs-3.21-bioc/R/bin/R CMD INSTALL openPrimeR StartedAt: 2025-02-09 15:49:23 -0500 (Sun, 09 Feb 2025) EndedAt: 2025-02-09 15:49:49 -0500 (Sun, 09 Feb 2025) EllapsedTime: 25.9 seconds RetCode: 0 Status: OK