Package: openPrimeR Version: 1.29.0 Command: rm -rf openPrimeR.buildbin-libdir && mkdir openPrimeR.buildbin-libdir && E:\biocbuild\bbs-3.21-bioc\R\bin\R.exe CMD INSTALL --build --library=openPrimeR.buildbin-libdir openPrimeR_1.29.0.tar.gz StartedAt: 2025-02-10 08:19:28 -0500 (Mon, 10 Feb 2025) EndedAt: 2025-02-10 08:21:41 -0500 (Mon, 10 Feb 2025) EllapsedTime: 133.1 seconds RetCode: 0 Status: OK PackageFile: openPrimeR_1.29.0.zip PackageFileSize: 2.728 MiB