Package: openPrimeR Version: 1.29.0 Command: E:\biocbuild\bbs-3.21-bioc\R\bin\R.exe CMD check --no-multiarch --install=check:openPrimeR.install-out.txt --library=E:\biocbuild\bbs-3.21-bioc\R\library --no-vignettes --timings openPrimeR_1.29.0.tar.gz StartedAt: 2025-02-10 03:46:52 -0500 (Mon, 10 Feb 2025) EndedAt: 2025-02-10 03:52:17 -0500 (Mon, 10 Feb 2025) EllapsedTime: 325.3 seconds RetCode: 0 Status: OK CheckDir: openPrimeR.Rcheck Warnings: 0