Package: oposSOM Version: 2.25.0 Command: /home/biocbuild/R/R/bin/R CMD check --install=check:oposSOM.install-out.txt --library=/home/biocbuild/R/R/site-library --no-vignettes --timings oposSOM_2.25.0.tar.gz StartedAt: 2025-01-28 13:32:22 -0000 (Tue, 28 Jan 2025) EndedAt: 2025-01-28 13:37:33 -0000 (Tue, 28 Jan 2025) EllapsedTime: 310.6 seconds RetCode: 1 Status: ERROR CheckDir: oposSOM.Rcheck Warnings: NA