Package: oposSOM Version: 2.25.0 Command: rm -rf oposSOM.buildbin-libdir && mkdir oposSOM.buildbin-libdir && /Users/biocbuild/BBS/utils/build-universal.sh oposSOM_2.25.0.tar.gz /Library/Frameworks/R.framework/Resources/bin/R oposSOM.buildbin-libdir StartedAt: 2025-02-10 01:06:56 -0500 (Mon, 10 Feb 2025) EndedAt: 2025-02-10 01:07:50 -0500 (Mon, 10 Feb 2025) EllapsedTime: 54.2 seconds RetCode: 0 Status: OK PackageFile: oposSOM_2.25.0.tgz PackageFileSize: 13.58 MiB