Package: oposSOM Version: 2.25.0 Command: /Library/Frameworks/R.framework/Resources/bin/R CMD build --keep-empty-dirs --no-resave-data oposSOM StartedAt: 2025-02-09 17:49:14 -0500 (Sun, 09 Feb 2025) EndedAt: 2025-02-09 17:50:04 -0500 (Sun, 09 Feb 2025) EllapsedTime: 50.3 seconds RetCode: 0 Status: OK PackageFile: oposSOM_2.25.0.tar.gz PackageFileSize: 13.35 MiB