Package: oposSOM Version: 2.25.0 Command: chmod a+r oposSOM -R && E:\biocbuild\bbs-3.21-bioc\R\bin\R.exe CMD build --keep-empty-dirs --no-resave-data oposSOM StartedAt: 2025-02-09 20:27:32 -0500 (Sun, 09 Feb 2025) EndedAt: 2025-02-09 20:28:40 -0500 (Sun, 09 Feb 2025) EllapsedTime: 68.6 seconds RetCode: 0 Status: OK PackageFile: oposSOM_2.25.0.tar.gz PackageFileSize: 13.22 MiB