Package: oposSOM Version: 2.25.0 Command: E:\biocbuild\bbs-3.21-bioc\R\bin\R.exe CMD check --no-multiarch --install=check:oposSOM.install-out.txt --library=E:\biocbuild\bbs-3.21-bioc\R\library --no-vignettes --timings oposSOM_2.25.0.tar.gz StartedAt: 2025-02-10 03:47:09 -0500 (Mon, 10 Feb 2025) EndedAt: 2025-02-10 03:51:41 -0500 (Mon, 10 Feb 2025) EllapsedTime: 272.2 seconds RetCode: 0 Status: WARNINGS CheckDir: oposSOM.Rcheck Warnings: 3