Package: oppar Version: 1.35.0 Command: rm -rf oppar.buildbin-libdir && mkdir oppar.buildbin-libdir && /Users/biocbuild/BBS/utils/build-universal.sh oppar_1.35.0.tar.gz /Library/Frameworks/R.framework/Resources/bin/R oppar.buildbin-libdir StartedAt: 2025-02-09 22:24:21 -0500 (Sun, 09 Feb 2025) EndedAt: 2025-02-09 22:24:39 -0500 (Sun, 09 Feb 2025) EllapsedTime: 17.4 seconds RetCode: 0 Status: OK PackageFile: oppar_1.35.0.tgz PackageFileSize: 5.262 MiB