Package: oppar Version: 1.35.0 Command: /home/biocbuild/bbs-3.21-bioc/R/bin/R CMD build --keep-empty-dirs --no-resave-data oppar StartedAt: 2025-02-09 18:30:15 -0500 (Sun, 09 Feb 2025) EndedAt: 2025-02-09 18:31:25 -0500 (Sun, 09 Feb 2025) EllapsedTime: 70.1 seconds RetCode: 0 Status: OK PackageFile: oppar_1.35.0.tar.gz PackageFileSize: 3.393 MiB