Package: oppar Version: 1.35.0 Command: /home/biocbuild/bbs-3.21-bioc/R/bin/R CMD check --install=check:oppar.install-out.txt --library=/home/biocbuild/bbs-3.21-bioc/R/site-library --timings oppar_1.35.0.tar.gz StartedAt: 2025-02-13 00:58:50 -0500 (Thu, 13 Feb 2025) EndedAt: 2025-02-13 01:06:02 -0500 (Thu, 13 Feb 2025) EllapsedTime: 431.7 seconds RetCode: 0 Status: WARNINGS CheckDir: oppar.Rcheck Warnings: 2