Package: oppar Version: 1.35.0 Command: /home/biocbuild/bbs-3.21-bioc/R/bin/R CMD INSTALL oppar StartedAt: 2025-02-12 15:53:57 -0500 (Wed, 12 Feb 2025) EndedAt: 2025-02-12 15:54:35 -0500 (Wed, 12 Feb 2025) EllapsedTime: 37.7 seconds RetCode: 0 Status: OK