Package: oppar Version: 1.35.0 Command: chmod a+r oppar -R && E:\biocbuild\bbs-3.21-bioc\R\bin\R.exe CMD build --keep-empty-dirs --no-resave-data oppar StartedAt: 2025-02-09 20:27:43 -0500 (Sun, 09 Feb 2025) EndedAt: 2025-02-09 20:29:05 -0500 (Sun, 09 Feb 2025) EllapsedTime: 81.4 seconds RetCode: 0 Status: OK PackageFile: oppar_1.35.0.tar.gz PackageFileSize: 3.379 MiB