Package: oppti Version: 1.21.0 Command: /Library/Frameworks/R.framework/Resources/bin/R CMD build --keep-empty-dirs --no-resave-data oppti StartedAt: 2025-02-09 17:10:08 -0500 (Sun, 09 Feb 2025) EndedAt: 2025-02-09 17:10:17 -0500 (Sun, 09 Feb 2025) EllapsedTime: 9.1 seconds RetCode: 0 Status: OK PackageFile: oppti_1.21.0.tar.gz PackageFileSize: 74.39 KiB