Package: oppti Version: 1.21.0 Command: /Library/Frameworks/R.framework/Resources/bin/R CMD check --install=check:oppti.install-out.txt --library=/Library/Frameworks/R.framework/Resources/library --no-vignettes --timings oppti_1.21.0.tar.gz StartedAt: 2025-02-09 22:27:20 -0500 (Sun, 09 Feb 2025) EndedAt: 2025-02-09 22:28:30 -0500 (Sun, 09 Feb 2025) EllapsedTime: 70.0 seconds RetCode: 0 Status: WARNINGS CheckDir: oppti.Rcheck Warnings: 1