Package: oppti Version: 1.21.0 Command: /home/biocbuild/bbs-3.21-bioc/R/bin/R CMD build --keep-empty-dirs --no-resave-data oppti StartedAt: 2025-02-09 18:30:31 -0500 (Sun, 09 Feb 2025) EndedAt: 2025-02-09 18:30:54 -0500 (Sun, 09 Feb 2025) EllapsedTime: 23.0 seconds RetCode: 0 Status: OK PackageFile: oppti_1.21.0.tar.gz PackageFileSize: 74.38 KiB