Package: oppti Version: 1.21.0 Command: E:\biocbuild\bbs-3.21-bioc\R\bin\R.exe CMD check --no-multiarch --install=check:oppti.install-out.txt --library=E:\biocbuild\bbs-3.21-bioc\R\library --no-vignettes --timings oppti_1.21.0.tar.gz StartedAt: 2025-02-10 03:47:23 -0500 (Mon, 10 Feb 2025) EndedAt: 2025-02-10 03:48:41 -0500 (Mon, 10 Feb 2025) EllapsedTime: 77.3 seconds RetCode: 0 Status: WARNINGS CheckDir: oppti.Rcheck Warnings: 1