Package: oppti Version: 1.21.0 Command: E:\biocbuild\bbs-3.21-bioc\R\bin\R.exe CMD INSTALL oppti StartedAt: 2025-02-12 15:53:59 -0500 (Wed, 12 Feb 2025) EndedAt: 2025-02-12 15:54:16 -0500 (Wed, 12 Feb 2025) EllapsedTime: 16.7 seconds RetCode: 0 Status: OK