Package: optimalFlow Version: 1.19.0 Command: /home/biocbuild/R/R/bin/R CMD check --install=check:optimalFlow.install-out.txt --library=/home/biocbuild/R/R/site-library --no-vignettes --timings optimalFlow_1.19.0.tar.gz StartedAt: 2025-01-28 13:34:00 -0000 (Tue, 28 Jan 2025) EndedAt: 2025-01-28 13:39:56 -0000 (Tue, 28 Jan 2025) EllapsedTime: 356.0 seconds RetCode: 0 Status: OK CheckDir: optimalFlow.Rcheck Warnings: 0