Package: optimalFlow Version: 1.19.0 Command: /home/biocbuild/R/R/bin/R CMD INSTALL optimalFlow StartedAt: 2025-01-29 20:05:07 -0000 (Wed, 29 Jan 2025) EndedAt: 2025-01-29 20:05:30 -0000 (Wed, 29 Jan 2025) EllapsedTime: 22.8 seconds RetCode: 0 Status: OK