Package: optimalFlow Version: 1.19.0 Command: /Library/Frameworks/R.framework/Resources/bin/R CMD INSTALL optimalFlow StartedAt: 2025-02-04 15:23:42 -0500 (Tue, 04 Feb 2025) EndedAt: 2025-02-04 15:24:09 -0500 (Tue, 04 Feb 2025) EllapsedTime: 27.0 seconds RetCode: 0 Status: OK