Package: optimalFlow Version: 1.19.0 Command: /home/biocbuild/bbs-3.21-bioc/R/bin/R CMD build --keep-empty-dirs --no-resave-data optimalFlow StartedAt: 2025-02-04 18:28:21 -0500 (Tue, 04 Feb 2025) EndedAt: 2025-02-04 18:35:10 -0500 (Tue, 04 Feb 2025) EllapsedTime: 408.7 seconds RetCode: 0 Status: OK PackageFile: optimalFlow_1.19.0.tar.gz PackageFileSize: 1.317 MiB