Package: optimalFlow Version: 1.19.0 Command: /home/biocbuild/bbs-3.21-bioc/R/bin/R CMD check --install=check:optimalFlow.install-out.txt --library=/home/biocbuild/bbs-3.21-bioc/R/site-library --timings optimalFlow_1.19.0.tar.gz StartedAt: 2025-02-10 00:58:39 -0500 (Mon, 10 Feb 2025) EndedAt: 2025-02-10 01:10:45 -0500 (Mon, 10 Feb 2025) EllapsedTime: 726.4 seconds RetCode: 0 Status: OK CheckDir: optimalFlow.Rcheck Warnings: 0