Package: orthos Version: 1.5.0 Command: rm -rf orthos.buildbin-libdir && mkdir orthos.buildbin-libdir && /Users/biocbuild/BBS/utils/build-universal.sh orthos_1.5.0.tar.gz /Library/Frameworks/R.framework/Resources/bin/R orthos.buildbin-libdir StartedAt: 2025-02-09 22:24:28 -0500 (Sun, 09 Feb 2025) EndedAt: 2025-02-09 22:24:41 -0500 (Sun, 09 Feb 2025) EllapsedTime: 12.3 seconds RetCode: 0 Status: OK PackageFile: orthos_1.5.0.tgz PackageFileSize: 2.842 MiB