Package: orthos Version: 1.5.0 Command: /Library/Frameworks/R.framework/Resources/bin/R CMD check --install=check:orthos.install-out.txt --library=/Library/Frameworks/R.framework/Resources/library --no-vignettes --timings orthos_1.5.0.tar.gz StartedAt: 2025-02-09 20:31:55 -0500 (Sun, 09 Feb 2025) EndedAt: 2025-02-09 20:36:50 -0500 (Sun, 09 Feb 2025) EllapsedTime: 295.5 seconds RetCode: 0 Status: OK CheckDir: orthos.Rcheck Warnings: 0