Package: orthos Version: 1.5.0 Command: /Library/Frameworks/R.framework/Resources/bin/R CMD build --keep-empty-dirs --no-resave-data orthos StartedAt: 2025-02-09 17:50:04 -0500 (Sun, 09 Feb 2025) EndedAt: 2025-02-09 17:55:02 -0500 (Sun, 09 Feb 2025) EllapsedTime: 297.4 seconds RetCode: 0 Status: OK PackageFile: orthos_1.5.0.tar.gz PackageFileSize: 3.003 MiB