Package: orthos Version: 1.5.0 Command: /home/biocbuild/bbs-3.21-bioc/R/bin/R CMD INSTALL orthos StartedAt: 2025-02-12 15:35:11 -0500 (Wed, 12 Feb 2025) EndedAt: 2025-02-12 15:35:35 -0500 (Wed, 12 Feb 2025) EllapsedTime: 23.5 seconds RetCode: 0 Status: OK