Package: orthos Version: 1.5.0 Command: chmod a+r orthos -R && E:\biocbuild\bbs-3.21-bioc\R\bin\R.exe CMD build --keep-empty-dirs --no-resave-data orthos StartedAt: 2025-02-09 20:30:26 -0500 (Sun, 09 Feb 2025) EndedAt: 2025-02-09 20:51:24 -0500 (Sun, 09 Feb 2025) EllapsedTime: 1257.9 seconds RetCode: 0 Status: OK PackageFile: orthos_1.5.0.tar.gz PackageFileSize: 2.154 MiB