Package: orthos Version: 1.5.0 Command: E:\biocbuild\bbs-3.21-bioc\R\bin\R.exe CMD INSTALL orthos StartedAt: 2025-02-09 16:15:39 -0500 (Sun, 09 Feb 2025) EndedAt: 2025-02-09 16:16:17 -0500 (Sun, 09 Feb 2025) EllapsedTime: 37.3 seconds RetCode: 0 Status: OK