Package: packFinder Version: 1.19.0 Command: /home/biocbuild/R/R/bin/R CMD build --keep-empty-dirs --no-resave-data packFinder StartedAt: 2025-01-29 01:07:34 -0000 (Wed, 29 Jan 2025) EndedAt: 2025-01-29 01:07:50 -0000 (Wed, 29 Jan 2025) EllapsedTime: 16.0 seconds RetCode: 0 Status: OK PackageFile: packFinder_1.19.0.tar.gz PackageFileSize: 1.157 MiB