Package: packFinder Version: 1.19.0 Command: /home/biocbuild/R/R/bin/R CMD check --install=check:packFinder.install-out.txt --library=/home/biocbuild/R/R/site-library --no-vignettes --timings packFinder_1.19.0.tar.gz StartedAt: 2025-01-28 13:38:30 -0000 (Tue, 28 Jan 2025) EndedAt: 2025-01-28 13:39:39 -0000 (Tue, 28 Jan 2025) EllapsedTime: 69.3 seconds RetCode: 0 Status: OK CheckDir: packFinder.Rcheck Warnings: 0