Package: packFinder Version: 1.19.0 Command: /home/biocbuild/R/R/bin/R CMD INSTALL packFinder StartedAt: 2025-01-29 20:13:22 -0000 (Wed, 29 Jan 2025) EndedAt: 2025-01-29 20:13:26 -0000 (Wed, 29 Jan 2025) EllapsedTime: 4.2 seconds RetCode: 0 Status: OK