Package: packFinder Version: 1.19.0 Command: rm -rf packFinder.buildbin-libdir && mkdir packFinder.buildbin-libdir && /Users/biocbuild/BBS/utils/build-universal.sh packFinder_1.19.0.tar.gz /Library/Frameworks/R.framework/Resources/bin/R packFinder.buildbin-libdir StartedAt: 2025-02-05 00:53:25 -0500 (Wed, 05 Feb 2025) EndedAt: 2025-02-05 00:53:31 -0500 (Wed, 05 Feb 2025) EllapsedTime: 5.8 seconds RetCode: 0 Status: OK PackageFile: packFinder_1.19.0.tgz PackageFileSize: 1.163 MiB